BEGIN:VCALENDAR
VERSION:2.0
PRODID:-//wp-events-plugin.com//7.2.3.1//EN
TZID:Europe/Berlin
X-WR-TIMEZONE:Europe/Berlin
BEGIN:VEVENT
UID:142@schulelinden.ch
DTSTART;TZID=Europe/Berlin;VALUE=DATE:20211104
DTEND;TZID=Europe/Berlin;VALUE=DATE:20211105
DTSTAMP:20211012T144058Z
URL:https://schulelinden.ch/?event=schularzt-kg2-4-klasse-und-8-klasse
SUMMARY:Schularzt KG2\, 4. Klasse und 8. Klasse
DESCRIPTION:
END:VEVENT
BEGIN:VEVENT
UID:143@schulelinden.ch
DTSTART;TZID=Europe/Berlin;VALUE=DATE:20211111
DTEND;TZID=Europe/Berlin;VALUE=DATE:20211112
DTSTAMP:20211012T144236Z
URL:https://schulelinden.ch/?event=zukunftstag-5-6-klasse
SUMMARY:Zukunftstag 5./6. Klasse
DESCRIPTION:
END:VEVENT
BEGIN:VEVENT
UID:144@schulelinden.ch
DTSTART;TZID=Europe/Berlin;VALUE=DATE:20211115
DTEND;TZID=Europe/Berlin;VALUE=DATE:20211119
DTSTAMP:20211012T144422Z
URL:https://schulelinden.ch/?event=berufswahlwoche-8-klasse
SUMMARY:Berufswahlwoche 8. Klasse
DESCRIPTION:
END:VEVENT
BEGIN:VEVENT
UID:145@schulelinden.ch
DTSTART;TZID=Europe/Berlin;VALUE=DATE:20211118
DTEND;TZID=Europe/Berlin;VALUE=DATE:20211119
DTSTAMP:20211012T144514Z
URL:https://schulelinden.ch/?event=schulzahnarzt
SUMMARY:Schulzahnarzt
DESCRIPTION:
END:VEVENT
BEGIN:VEVENT
UID:146@schulelinden.ch
DTSTART;TZID=Europe/Berlin;VALUE=DATE:20211119
DTEND;TZID=Europe/Berlin;VALUE=DATE:20211124
DTSTAMP:20211012T144548Z
URL:https://schulelinden.ch/?event=verlaengertes-wochenende
SUMMARY:verlängertes Wochenende
DESCRIPTION:
END:VEVENT
BEGIN:VEVENT
UID:147@schulelinden.ch
DTSTART;TZID=Europe/Berlin:20211122T000000
DTEND;TZID=Europe/Berlin:20211126T000000
DTSTAMP:20211012T144616Z
URL:https://schulelinden.ch/?event=kranzen-7-9-klasse
SUMMARY:Kranzen 7.-9. Klasse
DESCRIPTION:
END:VEVENT
BEGIN:VEVENT
UID:148@schulelinden.ch
DTSTART;TZID=Europe/Berlin;VALUE=DATE:20211126
DTEND;TZID=Europe/Berlin;VALUE=DATE:20211127
DTSTAMP:20211012T144649Z
URL:https://schulelinden.ch/?event=adventsmarkt-linden-und-kranzverkaeufe
SUMMARY:Adventsmarkt Linden und Kranzverkäufe
DESCRIPTION:
END:VEVENT
BEGIN:VEVENT
UID:149@schulelinden.ch
DTSTART;TZID=Europe/Berlin:20211224T115000
DTEND;TZID=Europe/Berlin:20211224T115000
DTSTAMP:20211012T144732Z
URL:https://schulelinden.ch/?event=unterrichtsschluss-vor-weihnachten
SUMMARY:Unterrichtsschluss vor Weihnachten
DESCRIPTION:
END:VEVENT
BEGIN:VEVENT
UID:150@schulelinden.ch
DTSTART;TZID=Europe/Berlin:20220131T000000
DTEND;TZID=Europe/Berlin:20220204T000000
DTSTAMP:20220131T054804Z
URL:https://schulelinden.ch/?event=schneesportlager
SUMMARY:Schneesportlager
DESCRIPTION:
END:VEVENT
BEGIN:VEVENT
UID:152@schulelinden.ch
DTSTART;TZID=Europe/Berlin;VALUE=DATE:20220207
DTEND;TZID=Europe/Berlin;VALUE=DATE:20220208
DTSTAMP:20220131T054841Z
URL:https://schulelinden.ch/?event=semsterwechsel-schulfrei
SUMMARY:Semsterwechsel - schulfrei
DESCRIPTION:
END:VEVENT
BEGIN:VEVENT
UID:151@schulelinden.ch
DTSTART;TZID=Europe/Berlin;VALUE=DATE:20220316
DTEND;TZID=Europe/Berlin;VALUE=DATE:20220317
DTSTAMP:20220131T054814Z
URL:https://schulelinden.ch/?event=hospitation-lehrkraefte-schulfrei
SUMMARY:Hospitation Lehrkräfte - schulfrei
DESCRIPTION:
END:VEVENT
BEGIN:VEVENT
UID:153@schulelinden.ch
DTSTART;TZID=Europe/Berlin;VALUE=DATE:20220408
DTEND;TZID=Europe/Berlin;VALUE=DATE:20220409
DTSTAMP:20220131T054919Z
URL:https://schulelinden.ch/?event=kein-organisationstag-unterricht-findet
 -statt
SUMMARY:kein Organisationstag - Unterricht findet statt!
DESCRIPTION:
END:VEVENT
BEGIN:VEVENT
UID:154@schulelinden.ch
DTSTART;TZID=Europe/Berlin:20220502T000000
DTEND;TZID=Europe/Berlin:20220502T000000
DTSTAMP:20220411T112623Z
URL:https://schulelinden.ch/?event=schulforum-zum-thema-mobbing-nur-fuer-e
 ltern-des-kindergartens
SUMMARY:Schulforum zum Thema Mobbing - nur für Eltern des Kindergartens
DESCRIPTION:
END:VEVENT
BEGIN:VEVENT
UID:155@schulelinden.ch
DTSTART;TZID=Europe/Berlin;VALUE=DATE:20220506
DTEND;TZID=Europe/Berlin;VALUE=DATE:20220507
DTSTAMP:20220411T112609Z
URL:https://schulelinden.ch/?event=regionale-fortbildung-schulfrei-fuer-sc
 huelerinnen
SUMMARY:Regionale Fortbildung (schulfrei für SchülerInnen)
DESCRIPTION:
END:VEVENT
BEGIN:VEVENT
UID:156@schulelinden.ch
DTSTART;TZID=Europe/Berlin;VALUE=DATE:20220526
DTEND;TZID=Europe/Berlin;VALUE=DATE:20220528
DTSTAMP:20220411T112655Z
URL:https://schulelinden.ch/?event=auffahrt-und-bruecke-schulfrei
SUMMARY:Auffahrt und Brücke - schulfrei
DESCRIPTION:
END:VEVENT
BEGIN:VEVENT
UID:157@schulelinden.ch
DTSTART;TZID=Europe/Berlin:20220531T133000
DTEND;TZID=Europe/Berlin:20220531T150500
DTSTAMP:20220411T112735Z
URL:https://schulelinden.ch/?event=klassentausch
SUMMARY:Klassentausch
DESCRIPTION:
END:VEVENT
BEGIN:VEVENT
UID:158@schulelinden.ch
DTSTART;TZID=Europe/Berlin;VALUE=DATE:20220606
DTEND;TZID=Europe/Berlin;VALUE=DATE:20220607
DTSTAMP:20220411T112815Z
URL:https://schulelinden.ch/?event=pfingstmontag-schulfrei
SUMMARY:Pfingstmontag - schulfrei
DESCRIPTION:
END:VEVENT
BEGIN:VEVENT
UID:160@schulelinden.ch
DTSTART;TZID=Europe/Berlin;VALUE=DATE:20220613
DTEND;TZID=Europe/Berlin;VALUE=DATE:20220618
DTSTAMP:20220411T112951Z
URL:https://schulelinden.ch/?event=landschulwoche-5-6-klasse-lachen-sz
SUMMARY:Landschulwoche 5./6. Klasse Lachen SZ
DESCRIPTION:
END:VEVENT
BEGIN:VEVENT
UID:159@schulelinden.ch
DTSTART;TZID=Europe/Berlin:20220613T133000
DTEND;TZID=Europe/Berlin:20220613T150500
DTSTAMP:20220411T112908Z
URL:https://schulelinden.ch/?event=bsueechlinami-kindergarten
SUMMARY:Bsüechlinami Kindergarten
DESCRIPTION:
END:VEVENT
BEGIN:VEVENT
UID:161@schulelinden.ch
DTSTART;TZID=Europe/Berlin:20220623T000000
DTEND;TZID=Europe/Berlin:20220623T000000
DTSTAMP:20220411T113030Z
URL:https://schulelinden.ch/?event=band-und-floetenkonzert-einladung-folgt
SUMMARY:Band - und Flötenkonzert (Einladung folgt)
DESCRIPTION:
END:VEVENT
BEGIN:VEVENT
UID:162@schulelinden.ch
DTSTART;TZID=Europe/Berlin;VALUE=DATE:20220627
DTEND;TZID=Europe/Berlin;VALUE=DATE:20220702
DTSTAMP:20220411T113059Z
URL:https://schulelinden.ch/?event=projektwoche
SUMMARY:Projektwoche
DESCRIPTION:
END:VEVENT
BEGIN:VEVENT
UID:163@schulelinden.ch
DTSTART;TZID=Europe/Berlin:20220629T200000
DTEND;TZID=Europe/Berlin:20220629T220000
DTSTAMP:20220411T113146Z
URL:https://schulelinden.ch/?event=theater-8-9-klasse
SUMMARY:Theater 8./9. Klasse
DESCRIPTION:
END:VEVENT
BEGIN:VEVENT
UID:164@schulelinden.ch
DTSTART;TZID=Europe/Berlin:20220630T200000
DTEND;TZID=Europe/Berlin:20220630T220000
DTSTAMP:20220411T113220Z
URL:https://schulelinden.ch/?event=theater-8-9-klasse-2
SUMMARY:Theater 8./9. Klasse
DESCRIPTION:
END:VEVENT
BEGIN:VEVENT
UID:165@schulelinden.ch
DTSTART;TZID=Europe/Berlin:20220701T000000
DTEND;TZID=Europe/Berlin:20220701T000000
DTSTAMP:20220411T113302Z
URL:https://schulelinden.ch/?event=schulfest-resultate-projektwoche-einlad
 ung-mit-details-folgt
SUMMARY:Schulfest/ Resultate Projektwoche (Einladung mit Details folgt)
DESCRIPTION:
END:VEVENT
BEGIN:VEVENT
UID:166@schulelinden.ch
DTSTART;TZID=Europe/Berlin;VALUE=DATE:20220704
DTEND;TZID=Europe/Berlin;VALUE=DATE:20220708
DTSTAMP:20220411T113402Z
URL:https://schulelinden.ch/?event=schulreise-7-9-klasse
SUMMARY:Schulreise 7. -9. Klasse/ 2 Tage nur 9. Klasse
DESCRIPTION:
END:VEVENT
BEGIN:VEVENT
UID:169@schulelinden.ch
DTSTART;TZID=Europe/Berlin:20220822T000000
DTEND;TZID=Europe/Berlin:20220822T000000
DTSTAMP:20220815T183606Z
URL:https://schulelinden.ch/?event=info-veranstaltung-uebertritt-fuer-elte
 rn-der-5-klaesslerinnen-in-oberdiessbach
SUMMARY:Info-Veranstaltung Übertritt für Eltern der 5. KlässlerInnen in 
 Oberdiessbach
DESCRIPTION:
END:VEVENT
BEGIN:VEVENT
UID:168@schulelinden.ch
DTSTART;TZID=Europe/Berlin;VALUE=DATE:20220822
DTEND;TZID=Europe/Berlin;VALUE=DATE:20220827
DTSTAMP:20220411T113706Z
URL:https://schulelinden.ch/?event=landschulwoche-4-6-klasse-langenbruck-b
 l
SUMMARY:Landschulwoche 4.-6. Klasse Langenbruck BL
DESCRIPTION:
END:VEVENT
BEGIN:VEVENT
UID:170@schulelinden.ch
DTSTART;TZID=Europe/Berlin:20220824T000000
DTEND;TZID=Europe/Berlin:20220824T000000
DTSTAMP:20220815T183634Z
URL:https://schulelinden.ch/?event=elternabend-kindergarten
SUMMARY:Elternabend Kindergarten
DESCRIPTION:
END:VEVENT
BEGIN:VEVENT
UID:171@schulelinden.ch
DTSTART;TZID=Europe/Berlin:20220831T000000
DTEND;TZID=Europe/Berlin:20220831T000000
DTSTAMP:20220815T183705Z
URL:https://schulelinden.ch/?event=elternabend-1-6-klasse
SUMMARY:Elternabend 1.-6. Klasse
DESCRIPTION:
END:VEVENT
BEGIN:VEVENT
UID:173@schulelinden.ch
DTSTART;TZID=Europe/Berlin;VALUE=DATE:20220908
DTEND;TZID=Europe/Berlin;VALUE=DATE:20220909
DTSTAMP:20220815T183932Z
URL:https://schulelinden.ch/?event=besuch-swissskills
SUMMARY:Besuch SwissSkills 7./8. Klasse
DESCRIPTION:
END:VEVENT
BEGIN:VEVENT
UID:172@schulelinden.ch
DTSTART;TZID=Europe/Berlin:20220915T200000
DTEND;TZID=Europe/Berlin:20220915T220000
DTSTAMP:20220815T183807Z
URL:https://schulelinden.ch/?event=elternabend-oberstufe
SUMMARY:Elternabend Oberstufe
DESCRIPTION:
END:VEVENT
BEGIN:VEVENT
UID:174@schulelinden.ch
DTSTART;TZID=Europe/Berlin;VALUE=DATE:20221109
DTEND;TZID=Europe/Berlin;VALUE=DATE:20221110
DTSTAMP:20220815T184001Z
URL:https://schulelinden.ch/?event=schulzahnarzt-2
SUMMARY:Schulzahnarzt
DESCRIPTION:
END:VEVENT
BEGIN:VEVENT
UID:175@schulelinden.ch
DTSTART;TZID=Europe/Berlin;VALUE=DATE:20221110
DTEND;TZID=Europe/Berlin;VALUE=DATE:20221111
DTSTAMP:20220815T184039Z
URL:https://schulelinden.ch/?event=zukunftstag-5-6-klasse-2
SUMMARY:Zukunftstag 5./6. Klasse
DESCRIPTION:
END:VEVENT
BEGIN:VEVENT
UID:176@schulelinden.ch
DTSTART;TZID=Europe/Berlin:20221125T160000
DTEND;TZID=Europe/Berlin:20221125T220000
DTSTAMP:20220815T184146Z
URL:https://schulelinden.ch/?event=adventsmaerit-in-linden
SUMMARY:Adventsmärit in Linden
DESCRIPTION:
END:VEVENT
BEGIN:VEVENT
UID:178@schulelinden.ch
DTSTART;TZID=Europe/Berlin:20221207T193000
DTEND;TZID=Europe/Berlin:20221207T213000
DTSTAMP:20221023T191015Z
URL:https://schulelinden.ch/?event=adventskonzert-1-9-klasse
SUMMARY:Adventskonzert 1.-9. Klasse
DESCRIPTION:
END:VEVENT
BEGIN:VEVENT
UID:179@schulelinden.ch
DTSTART;TZID=Europe/Berlin:20221208T193000
DTEND;TZID=Europe/Berlin:20221208T213000
DTSTAMP:20221023T191054Z
URL:https://schulelinden.ch/?event=adventskonzert-1-9-klasse-2
SUMMARY:Adventskonzert 1.-9. Klasse
DESCRIPTION:
END:VEVENT
BEGIN:VEVENT
UID:177@schulelinden.ch
DTSTART;TZID=Europe/Berlin;VALUE=DATE:20230123
DTEND;TZID=Europe/Berlin;VALUE=DATE:20230128
DTSTAMP:20220815T184238Z
URL:https://schulelinden.ch/?event=schneesportlager-oberstufe
SUMMARY:Schneesportlager Oberstufe
DESCRIPTION:
END:VEVENT
BEGIN:VEVENT
UID:180@schulelinden.ch
DTSTART;TZID=Europe/Berlin;VALUE=DATE:20230315
DTEND;TZID=Europe/Berlin;VALUE=DATE:20230316
DTSTAMP:20230112T092441Z
URL:https://schulelinden.ch/?event=hospitieren-fuer-lehrpersonen-schulfrei
SUMMARY:Hospitieren für Lehrpersonen (schulfrei)
DESCRIPTION:
END:VEVENT
BEGIN:VEVENT
UID:181@schulelinden.ch
DTSTART;TZID=Europe/Berlin;VALUE=DATE:20230406
DTEND;TZID=Europe/Berlin;VALUE=DATE:20230407
DTSTAMP:20230112T092524Z
URL:https://schulelinden.ch/?event=organisationstag-schulfrei
SUMMARY:Organisationstag (schulfrei)
DESCRIPTION:
END:VEVENT
BEGIN:VEVENT
UID:182@schulelinden.ch
DTSTART;TZID=Europe/Berlin;VALUE=DATE:20230407
DTEND;TZID=Europe/Berlin;VALUE=DATE:20230408
DTSTAMP:20230112T092549Z
URL:https://schulelinden.ch/?event=karfreitag-schulfrei
SUMMARY:Karfreitag (schulfrei)
DESCRIPTION:
END:VEVENT
BEGIN:VEVENT
UID:183@schulelinden.ch
DTSTART;TZID=Europe/Berlin:20230508T000000
DTEND;TZID=Europe/Berlin:20230508T000000
DTSTAMP:20230112T093748Z
URL:https://schulelinden.ch/?event=elternforum-oberdiessbach
SUMMARY:Elternforum Oberdiessbach
DESCRIPTION:
END:VEVENT
BEGIN:VEVENT
UID:184@schulelinden.ch
DTSTART;TZID=Europe/Berlin;VALUE=DATE:20230509
DTEND;TZID=Europe/Berlin;VALUE=DATE:20230510
DTSTAMP:20230112T093813Z
URL:https://schulelinden.ch/?event=kuw-exkursion-7-klasse
SUMMARY:KUW-Exkursion 7. Klasse
DESCRIPTION:
END:VEVENT
BEGIN:VEVENT
UID:185@schulelinden.ch
DTSTART;TZID=Europe/Berlin;VALUE=DATE:20230518
DTEND;TZID=Europe/Berlin;VALUE=DATE:20230520
DTSTAMP:20230112T093847Z
URL:https://schulelinden.ch/?event=auffahrt-und-bruecke-schulfrei-2
SUMMARY:Auffahrt und Brücke (schulfrei)
DESCRIPTION:
END:VEVENT
BEGIN:VEVENT
UID:186@schulelinden.ch
DTSTART;TZID=Europe/Berlin;VALUE=DATE:20230529
DTEND;TZID=Europe/Berlin;VALUE=DATE:20230530
DTSTAMP:20230112T093930Z
URL:https://schulelinden.ch/?event=pfingstmontag-schulfrei-2
SUMMARY:Pfingstmontag (schulfrei)
DESCRIPTION:
END:VEVENT
BEGIN:VEVENT
UID:187@schulelinden.ch
DTSTART;TZID=Europe/Berlin:20230530T133000
DTEND;TZID=Europe/Berlin:20230530T150500
DTSTAMP:20230112T094016Z
URL:https://schulelinden.ch/?event=klassentausch-2
SUMMARY:Klassentausch
DESCRIPTION:
END:VEVENT
BEGIN:VEVENT
UID:188@schulelinden.ch
DTSTART;TZID=Europe/Berlin:20230612T133000
DTEND;TZID=Europe/Berlin:20230612T150500
DTSTAMP:20230112T094102Z
URL:https://schulelinden.ch/?event=bsueechlinachmittag-kindergarten
SUMMARY:Bsüechlinachmittag Kindergarten
DESCRIPTION:
END:VEVENT
BEGIN:VEVENT
UID:193@schulelinden.ch
DTSTART;TZID=Europe/Berlin:20230622T193000
DTEND;TZID=Europe/Berlin:20230622T213000
DTSTAMP:20230424T084524Z
URL:https://schulelinden.ch/?event=floeten-und-bandkonzert
SUMMARY:Flöten- und Bandkonzert
DESCRIPTION:
END:VEVENT
BEGIN:VEVENT
UID:189@schulelinden.ch
DTSTART;TZID=Europe/Berlin;VALUE=DATE:20230629
DTEND;TZID=Europe/Berlin;VALUE=DATE:20230630
DTSTAMP:20230614T074130Z
URL:https://schulelinden.ch/?event=schulfest-ende-juni
SUMMARY:Schulfest "Krimidinner"
DESCRIPTION:geschlossene Gesellschaft
END:VEVENT
BEGIN:VEVENT
UID:191@schulelinden.ch
DTSTART;TZID=Europe/Berlin;VALUE=DATE:20230630
DTEND;TZID=Europe/Berlin;VALUE=DATE:20230701
DTSTAMP:20230614T074146Z
URL:https://schulelinden.ch/?event=schulfest-krimidinner
SUMMARY:Schulfest "Krimidinner"
DESCRIPTION:geschlossene Gesellschaft
END:VEVENT
BEGIN:VEVENT
UID:192@schulelinden.ch
DTSTART;TZID=Europe/Berlin;VALUE=DATE:20230703
DTEND;TZID=Europe/Berlin;VALUE=DATE:20230705
DTSTAMP:20230321T130549Z
URL:https://schulelinden.ch/?event=abschlussfest-kindergarten
SUMMARY:Abschlussfest Kindergarten
DESCRIPTION:
END:VEVENT
BEGIN:VTIMEZONE
TZID:Europe/Berlin
X-LIC-LOCATION:Europe/Berlin
BEGIN:STANDARD
DTSTART:20211031T020000
TZOFFSETFROM:+0200
TZOFFSETTO:+0100
TZNAME:CET
END:STANDARD
BEGIN:DAYLIGHT
DTSTART:20220327T030000
TZOFFSETFROM:+0100
TZOFFSETTO:+0200
TZNAME:CEST
END:DAYLIGHT
BEGIN:STANDARD
DTSTART:20221030T020000
TZOFFSETFROM:+0200
TZOFFSETTO:+0100
TZNAME:CET
END:STANDARD
BEGIN:DAYLIGHT
DTSTART:20230326T030000
TZOFFSETFROM:+0100
TZOFFSETTO:+0200
TZNAME:CEST
END:DAYLIGHT
END:VTIMEZONE
END:VCALENDAR